Back to Build/check report for BioC 3.14 experimental data
ABCDEFGHIJK[L]MNOPQRSTUVWXYZ

This page was generated on 2021-10-23 15:51:47 -0400 (Sat, 23 Oct 2021).

BUILD results for LiebermanAidenHiC2009 on nebbiolo2

To the developers/maintainers of the LiebermanAidenHiC2009 package:
Make sure to use the following settings in order to reproduce any error or warning you see on this page.

raw results

Package 199/408HostnameOS / ArchINSTALLBUILDCHECK
LiebermanAidenHiC2009 0.31.0  (landing page)
Felix Klein
Snapshot Date: 2021-10-23 09:30:01 -0400 (Sat, 23 Oct 2021)
git_url: https://git.bioconductor.org/packages/LiebermanAidenHiC2009
git_branch: master
git_last_commit: 9bd1b78
git_last_commit_date: 2021-05-19 11:32:18 -0400 (Wed, 19 May 2021)
nebbiolo2Linux (Ubuntu 20.04.2 LTS) / x86_64  OK    OK    WARNINGS  UNNEEDED, same version is already published

Summary

Package: LiebermanAidenHiC2009
Version: 0.31.0
Command: /home/biocbuild/bbs-3.14-bioc/R/bin/R CMD build --keep-empty-dirs --no-resave-data LiebermanAidenHiC2009
StartedAt: 2021-10-23 11:26:15 -0400 (Sat, 23 Oct 2021)
EndedAt: 2021-10-23 11:27:18 -0400 (Sat, 23 Oct 2021)
EllapsedTime: 62.8 seconds
RetCode: 0
Status:   OK  
PackageFile: LiebermanAidenHiC2009_0.31.0.tar.gz
PackageFileSize: 10.16 MiB

Command output

##############################################################################
##############################################################################
###
### Running command:
###
###   /home/biocbuild/bbs-3.14-bioc/R/bin/R CMD build --keep-empty-dirs --no-resave-data LiebermanAidenHiC2009
###
##############################################################################
##############################################################################


* checking for file ‘LiebermanAidenHiC2009/DESCRIPTION’ ... OK
* preparing ‘LiebermanAidenHiC2009’:
* checking DESCRIPTION meta-information ... OK
* installing the package to build vignettes
* creating vignettes ... OK
* checking for LF line-endings in source and make files and shell scripts
* checking for empty or unneeded directories
* looking to see if a ‘data/datalist’ file should be added
* building ‘LiebermanAidenHiC2009_0.31.0.tar.gz’