Back to Build/check report for BioC 3.14 experimental data
ABCDEFGHIJ[K]LMNOPQRSTUVWXYZ

This page was generated on 2021-10-19 15:52:18 -0400 (Tue, 19 Oct 2021).

INSTALL results for KOdata on nebbiolo2

To the developers/maintainers of the KOdata package:
Make sure to use the following settings in order to reproduce any error or warning you see on this page.

raw results

Package 195/404HostnameOS / ArchINSTALLBUILDCHECK
KOdata 1.19.0  (landing page)
Shana White
Snapshot Date: 2021-10-19 09:30:02 -0400 (Tue, 19 Oct 2021)
git_url: https://git.bioconductor.org/packages/KOdata
git_branch: master
git_last_commit: eb6359a
git_last_commit_date: 2021-05-19 11:59:52 -0400 (Wed, 19 May 2021)
nebbiolo2Linux (Ubuntu 20.04.2 LTS) / x86_64  OK    OK    WARNINGS  UNNEEDED, same version is already published

Summary

Package: KOdata
Version: 1.19.0
Command: /home/biocbuild/bbs-3.14-bioc/R/bin/R CMD INSTALL KOdata
StartedAt: 2021-10-19 11:00:25 -0400 (Tue, 19 Oct 2021)
EndedAt: 2021-10-19 11:00:46 -0400 (Tue, 19 Oct 2021)
EllapsedTime: 20.9 seconds
RetCode: 0
Status:   OK  

Command output

##############################################################################
##############################################################################
###
### Running command:
###
###   /home/biocbuild/bbs-3.14-bioc/R/bin/R CMD INSTALL KOdata
###
##############################################################################
##############################################################################


* installing to library ‘/home/biocbuild/bbs-3.14-bioc/R/library’
* installing *source* package ‘KOdata’ ...
** using staged installation
** data
*** moving datasets to lazyload DB
** help
*** installing help indices
** building package indices
** testing if installed package can be loaded from temporary location
** testing if installed package can be loaded from final location
** testing if installed package keeps a record of temporary installation path
* DONE (KOdata)