Back to Build/check report for BioC 3.14 experimental data
ABCDEFGHIJ[K]LMNOPQRSTUVWXYZ

This page was generated on 2021-10-16 15:51:46 -0400 (Sat, 16 Oct 2021).

BUILD results for KEGGdzPathwaysGEO on nebbiolo2

To the developers/maintainers of the KEGGdzPathwaysGEO package:
Make sure to use the following settings in order to reproduce any error or warning you see on this page.

raw results

Package 193/404HostnameOS / ArchINSTALLBUILDCHECK
KEGGdzPathwaysGEO 1.31.0  (landing page)
Gaurav Bhatti
Snapshot Date: 2021-10-16 09:30:02 -0400 (Sat, 16 Oct 2021)
git_url: https://git.bioconductor.org/packages/KEGGdzPathwaysGEO
git_branch: master
git_last_commit: b7b8122
git_last_commit_date: 2021-05-19 11:35:17 -0400 (Wed, 19 May 2021)
nebbiolo2Linux (Ubuntu 20.04.2 LTS) / x86_64  OK    OK    OK  UNNEEDED, same version is already published

Summary

Package: KEGGdzPathwaysGEO
Version: 1.31.0
Command: /home/biocbuild/bbs-3.14-bioc/R/bin/R CMD build --keep-empty-dirs --no-resave-data KEGGdzPathwaysGEO
StartedAt: 2021-10-16 11:24:44 -0400 (Sat, 16 Oct 2021)
EndedAt: 2021-10-16 11:25:00 -0400 (Sat, 16 Oct 2021)
EllapsedTime: 16.4 seconds
RetCode: 0
Status:   OK  
PackageFile: KEGGdzPathwaysGEO_1.31.0.tar.gz
PackageFileSize: 300.1 MiB

Command output

##############################################################################
##############################################################################
###
### Running command:
###
###   /home/biocbuild/bbs-3.14-bioc/R/bin/R CMD build --keep-empty-dirs --no-resave-data KEGGdzPathwaysGEO
###
##############################################################################
##############################################################################


* checking for file ‘KEGGdzPathwaysGEO/DESCRIPTION’ ... OK
* preparing ‘KEGGdzPathwaysGEO’:
* checking DESCRIPTION meta-information ... OK
* checking for LF line-endings in source and make files and shell scripts
* checking for empty or unneeded directories
* looking to see if a ‘data/datalist’ file should be added
* building ‘KEGGdzPathwaysGEO_1.31.0.tar.gz’