Back to Build/check report for BioC 3.14 experimental data
ABCDEFGH[I]JKLMNOPQRSTUVWXYZ

This page was generated on 2021-10-23 15:51:47 -0400 (Sat, 23 Oct 2021).

CHECK results for Iyer517 on nebbiolo2

To the developers/maintainers of the Iyer517 package:
Make sure to use the following settings in order to reproduce any error or warning you see on this page.

raw results

Package 190/408HostnameOS / ArchINSTALLBUILDCHECK
Iyer517 1.35.0  (landing page)
Vince Carey
Snapshot Date: 2021-10-23 09:30:01 -0400 (Sat, 23 Oct 2021)
git_url: https://git.bioconductor.org/packages/Iyer517
git_branch: master
git_last_commit: 11fb375
git_last_commit_date: 2021-05-19 11:25:23 -0400 (Wed, 19 May 2021)
nebbiolo2Linux (Ubuntu 20.04.2 LTS) / x86_64  OK    OK    OK  UNNEEDED, same version is already published

Summary

Package: Iyer517
Version: 1.35.0
Command: /home/biocbuild/bbs-3.14-bioc/R/bin/R CMD check --install=check:Iyer517.install-out.txt --library=/home/biocbuild/bbs-3.14-bioc/R/library --no-vignettes --timings Iyer517_1.35.0.tar.gz
StartedAt: 2021-10-23 12:25:34 -0400 (Sat, 23 Oct 2021)
EndedAt: 2021-10-23 12:25:55 -0400 (Sat, 23 Oct 2021)
EllapsedTime: 21.5 seconds
RetCode: 0
Status:   OK  
CheckDir: Iyer517.Rcheck
Warnings: 0

Command output

##############################################################################
##############################################################################
###
### Running command:
###
###   /home/biocbuild/bbs-3.14-bioc/R/bin/R CMD check --install=check:Iyer517.install-out.txt --library=/home/biocbuild/bbs-3.14-bioc/R/library --no-vignettes --timings Iyer517_1.35.0.tar.gz
###
##############################################################################
##############################################################################


* using log directory ‘/home/biocbuild/bbs-3.14-data-experiment/meat/Iyer517.Rcheck’
* using R version 4.1.1 (2021-08-10)
* using platform: x86_64-pc-linux-gnu (64-bit)
* using session charset: UTF-8
* using option ‘--no-vignettes’
* checking for file ‘Iyer517/DESCRIPTION’ ... OK
* this is package ‘Iyer517’ version ‘1.35.0’
* checking package namespace information ... OK
* checking package dependencies ... OK
* checking if this is a source package ... OK
* checking if there is a namespace ... OK
* checking for hidden files and directories ... OK
* checking for portable file names ... OK
* checking for sufficient/correct file permissions ... OK
* checking whether package ‘Iyer517’ can be installed ... OK
* checking installed package size ... OK
* checking package directory ... OK
* checking ‘build’ directory ... OK
* checking DESCRIPTION meta-information ... NOTE
Malformed Description field: should contain one or more complete sentences.
* checking top-level files ... OK
* checking for left-over files ... OK
* checking index information ... OK
* checking package subdirectories ... OK
* checking R files for non-ASCII characters ... OK
* checking R files for syntax errors ... OK
* checking whether the package can be loaded ... OK
* checking whether the package can be loaded with stated dependencies ... OK
* checking whether the package can be unloaded cleanly ... OK
* checking whether the namespace can be loaded with stated dependencies ... OK
* checking whether the namespace can be unloaded cleanly ... OK
* checking dependencies in R code ... NOTE
Package in Depends field not imported from: ‘Biobase’
  These packages need to be imported from (in the NAMESPACE file)
  for when this namespace is loaded but not attached.
* checking S3 generic/method consistency ... OK
* checking replacement functions ... OK
* checking foreign function calls ... OK
* checking R code for possible problems ... OK
* checking Rd files ... OK
* checking Rd metadata ... OK
* checking Rd cross-references ... OK
* checking for missing documentation entries ... OK
* checking for code/documentation mismatches ... OK
* checking Rd \usage sections ... OK
* checking Rd contents ... OK
* checking for unstated dependencies in examples ... OK
* checking contents of ‘data’ directory ... OK
* checking data for non-ASCII characters ... OK
* checking data for ASCII and uncompressed saves ... OK
* checking files in ‘vignettes’ ... OK
* checking examples ... OK
* checking for unstated dependencies in vignettes ... OK
* checking package vignettes in ‘inst/doc’ ... OK
* checking running R code from vignettes ... SKIPPED
* checking re-building of vignette outputs ... SKIPPED
* checking PDF version of manual ... OK
* DONE

Status: 2 NOTEs
See
  ‘/home/biocbuild/bbs-3.14-data-experiment/meat/Iyer517.Rcheck/00check.log’
for details.



Installation output

Iyer517.Rcheck/00install.out

##############################################################################
##############################################################################
###
### Running command:
###
###   /home/biocbuild/bbs-3.14-bioc/R/bin/R CMD INSTALL Iyer517
###
##############################################################################
##############################################################################


* installing to library ‘/home/biocbuild/bbs-3.14-bioc/R/library’
* installing *source* package ‘Iyer517’ ...
** using staged installation
** R
** data
** inst
** byte-compile and prepare package for lazy loading
** help
*** installing help indices
** building package indices
** installing vignettes
** testing if installed package can be loaded from temporary location
** testing if installed package can be loaded from final location
** testing if installed package keeps a record of temporary installation path
* DONE (Iyer517)

Tests output


Example timings

Iyer517.Rcheck/Iyer517-Ex.timings

nameusersystemelapsed
Iyer5170.0590.0040.063
IyerAnnotated0.0050.0000.005
get.dna2000