Back to Build/check report for BioC 3.14 experimental data
ABCDEFGH[I]JKLMNOPQRSTUVWXYZ

This page was generated on 2021-10-16 15:51:46 -0400 (Sat, 16 Oct 2021).

INSTALL results for IlluminaDataTestFiles on nebbiolo2

To the developers/maintainers of the IlluminaDataTestFiles package:
Make sure to use the following settings in order to reproduce any error or warning you see on this page.

raw results

Package 186/404HostnameOS / ArchINSTALLBUILDCHECK
IlluminaDataTestFiles 1.31.0  (landing page)
Kasper Daniel Hansen
Snapshot Date: 2021-10-16 09:30:02 -0400 (Sat, 16 Oct 2021)
git_url: https://git.bioconductor.org/packages/IlluminaDataTestFiles
git_branch: master
git_last_commit: e0f2791
git_last_commit_date: 2021-05-19 11:42:54 -0400 (Wed, 19 May 2021)
nebbiolo2Linux (Ubuntu 20.04.2 LTS) / x86_64  OK    OK    OK  UNNEEDED, same version is already published

Summary

Package: IlluminaDataTestFiles
Version: 1.31.0
Command: /home/biocbuild/bbs-3.14-bioc/R/bin/R CMD INSTALL IlluminaDataTestFiles
StartedAt: 2021-10-16 11:00:10 -0400 (Sat, 16 Oct 2021)
EndedAt: 2021-10-16 11:00:12 -0400 (Sat, 16 Oct 2021)
EllapsedTime: 2.0 seconds
RetCode: 0
Status:   OK  

Command output

##############################################################################
##############################################################################
###
### Running command:
###
###   /home/biocbuild/bbs-3.14-bioc/R/bin/R CMD INSTALL IlluminaDataTestFiles
###
##############################################################################
##############################################################################


* installing to library ‘/home/biocbuild/bbs-3.14-bioc/R/library’
* installing *source* package ‘IlluminaDataTestFiles’ ...
** using staged installation
** inst
** help
*** installing help indices
** building package indices
** testing if installed package can be loaded from temporary location
** testing if installed package can be loaded from final location
** testing if installed package keeps a record of temporary installation path
* DONE (IlluminaDataTestFiles)