Back to Build/check report for BioC 3.14 experimental data
ABCDEFGH[I]JKLMNOPQRSTUVWXYZ

This page was generated on 2021-10-19 15:52:18 -0400 (Tue, 19 Oct 2021).

BUILD results for IlluminaDataTestFiles on nebbiolo2

To the developers/maintainers of the IlluminaDataTestFiles package:
Make sure to use the following settings in order to reproduce any error or warning you see on this page.

raw results

Package 186/404HostnameOS / ArchINSTALLBUILDCHECK
IlluminaDataTestFiles 1.31.0  (landing page)
Kasper Daniel Hansen
Snapshot Date: 2021-10-19 09:30:02 -0400 (Tue, 19 Oct 2021)
git_url: https://git.bioconductor.org/packages/IlluminaDataTestFiles
git_branch: master
git_last_commit: e0f2791
git_last_commit_date: 2021-05-19 11:42:54 -0400 (Wed, 19 May 2021)
nebbiolo2Linux (Ubuntu 20.04.2 LTS) / x86_64  OK    OK    OK  UNNEEDED, same version is already published

Summary

Package: IlluminaDataTestFiles
Version: 1.31.0
Command: /home/biocbuild/bbs-3.14-bioc/R/bin/R CMD build --keep-empty-dirs --no-resave-data IlluminaDataTestFiles
StartedAt: 2021-10-19 11:25:15 -0400 (Tue, 19 Oct 2021)
EndedAt: 2021-10-19 11:25:17 -0400 (Tue, 19 Oct 2021)
EllapsedTime: 2.3 seconds
RetCode: 0
Status:   OK  
PackageFile: IlluminaDataTestFiles_1.31.0.tar.gz
PackageFileSize: 23.69 MiB

Command output

##############################################################################
##############################################################################
###
### Running command:
###
###   /home/biocbuild/bbs-3.14-bioc/R/bin/R CMD build --keep-empty-dirs --no-resave-data IlluminaDataTestFiles
###
##############################################################################
##############################################################################


* checking for file ‘IlluminaDataTestFiles/DESCRIPTION’ ... OK
* preparing ‘IlluminaDataTestFiles’:
* checking DESCRIPTION meta-information ... OK
* checking for LF line-endings in source and make files and shell scripts
* checking for empty or unneeded directories
* building ‘IlluminaDataTestFiles_1.31.0.tar.gz’