![]() | Name | Last modified | Size | Description |
---|---|---|---|---|
![]() | Parent Directory | - | ||
![]() | buildsrc-out.txt | 02-Jun-2023 03:51 | 813 | |
![]() | buildsrc-summary.dcf | 02-Jun-2023 03:51 | 428 | |
![]() | checksrc-out.txt | 02-Jun-2023 03:51 | 4.6K | |
![]() | checksrc-summary.dcf | 02-Jun-2023 03:51 | 435 | |
![]() | install-out.txt | 02-Jun-2023 03:51 | 890 | |
![]() | install-summary.dcf | 02-Jun-2023 03:51 | 266 | |