Index of /checkResults/devel/data-experiment-LATEST/ITALICSData/raw-results

[ICO]NameLast modifiedSizeDescription

[DIR]Parent Directory  -  
[DIR]nebbiolo2/18-May-2022 03:50 -  
[   ]info.dcf18-May-2022 03:50 272