Back to Build/check report for BioC 3.14 experimental data
ABCDEFGH[I]JKLMNOPQRSTUVWXYZ

This page was generated on 2021-10-16 15:51:46 -0400 (Sat, 16 Oct 2021).

INSTALL results for IHWpaper on nebbiolo2

To the developers/maintainers of the IHWpaper package:
Make sure to use the following settings in order to reproduce any error or warning you see on this page.

raw results

Package 184/404HostnameOS / ArchINSTALLBUILDCHECK
IHWpaper 1.21.0  (landing page)
Nikos Ignatiadis
Snapshot Date: 2021-10-16 09:30:02 -0400 (Sat, 16 Oct 2021)
git_url: https://git.bioconductor.org/packages/IHWpaper
git_branch: master
git_last_commit: b9f7f5b
git_last_commit_date: 2021-05-19 11:57:21 -0400 (Wed, 19 May 2021)
nebbiolo2Linux (Ubuntu 20.04.2 LTS) / x86_64  OK    ERROR  skipped

Summary

Package: IHWpaper
Version: 1.21.0
Command: /home/biocbuild/bbs-3.14-bioc/R/bin/R CMD INSTALL IHWpaper
StartedAt: 2021-10-16 11:07:50 -0400 (Sat, 16 Oct 2021)
EndedAt: 2021-10-16 11:08:17 -0400 (Sat, 16 Oct 2021)
EllapsedTime: 26.3 seconds
RetCode: 0
Status:   OK  

Command output

##############################################################################
##############################################################################
###
### Running command:
###
###   /home/biocbuild/bbs-3.14-bioc/R/bin/R CMD INSTALL IHWpaper
###
##############################################################################
##############################################################################


* installing to library ‘/home/biocbuild/bbs-3.14-bioc/R/library’
* installing *source* package ‘IHWpaper’ ...
** using staged installation
** libs
g++ -std=gnu++14 -I"/home/biocbuild/bbs-3.14-bioc/R/include" -DNDEBUG  -I'/home/biocbuild/bbs-3.14-bioc/R/library/Rcpp/include' -I/usr/local/include   -fpic  -g -O2  -Wall -c RcppExports.cpp -o RcppExports.o
g++ -std=gnu++14 -I"/home/biocbuild/bbs-3.14-bioc/R/include" -DNDEBUG  -I'/home/biocbuild/bbs-3.14-bioc/R/library/Rcpp/include' -I/usr/local/include   -fpic  -g -O2  -Wall -c ddhf.cpp -o ddhf.o
g++ -std=gnu++14 -shared -L/home/biocbuild/bbs-3.14-bioc/R/lib -L/usr/local/lib -o IHWpaper.so RcppExports.o ddhf.o -L/home/biocbuild/bbs-3.14-bioc/R/lib -lR
installing to /home/biocbuild/bbs-3.14-bioc/R/library/00LOCK-IHWpaper/00new/IHWpaper/libs
** R
** inst
** byte-compile and prepare package for lazy loading
** help
*** installing help indices
** building package indices
** installing vignettes
** testing if installed package can be loaded from temporary location
** checking absolute paths in shared objects and dynamic libraries
** testing if installed package can be loaded from final location
** testing if installed package keeps a record of temporary installation path
* DONE (IHWpaper)