Back to Build/check report for BioC 3.15 experimental data
ABCDEFG[H]IJKLMNOPQRSTUVWXYZ

This page was generated on 2021-10-26 15:49:12 -0400 (Tue, 26 Oct 2021).

All results for package Hiiragi2013

To the developers/maintainers of the Hiiragi2013 package:
Make sure to use the following settings in order to reproduce any error or warning you see on this page.

raw results

Package 176/403HostnameOS / ArchINSTALLBUILDCHECK
Hiiragi2013 1.29.0  (landing page)
Andrzej Oles
Snapshot Date: 2021-10-26 09:30:01 -0400 (Tue, 26 Oct 2021)
git_url: https://git.bioconductor.org/packages/Hiiragi2013
git_branch: master
git_last_commit: 2607674
git_last_commit_date: 2021-05-19 11:39:59 -0400 (Wed, 19 May 2021)
nebbiolo1Linux (Ubuntu 20.04.2 LTS) / x86_64  OK    OK    OK  NO, package depends on 'affy' which is not available