Index of /checkResults/devel/data-experiment-LATEST/HighlyReplicatedRNASeq/raw-results/nebbiolo2

[ICO]NameLast modifiedSizeDescription

[DIR]Parent Directory  -  
[TXT]buildsrc-out.txt25-Jan-2022 22:37 876  
[   ]buildsrc-summary.dcf25-Jan-2022 22:37 471  
[TXT]checksrc-out.txt25-Jan-2022 22:37 3.1K 
[   ]checksrc-summary.dcf25-Jan-2022 22:37 504  
[TXT]install-out.txt25-Jan-2022 22:37 1.0K 
[   ]install-summary.dcf25-Jan-2022 22:37 300