Back to Build/check report for BioC 3.14 experimental data
ABCDEFG[H]IJKLMNOPQRSTUVWXYZ

This page was generated on 2021-10-16 15:51:46 -0400 (Sat, 16 Oct 2021).

BUILD results for HiCDataHumanIMR90 on nebbiolo2

To the developers/maintainers of the HiCDataHumanIMR90 package:
Make sure to use the following settings in order to reproduce any error or warning you see on this page.

raw results

Package 174/404HostnameOS / ArchINSTALLBUILDCHECK
HiCDataHumanIMR90 1.13.0  (landing page)
Nicolas Servant
Snapshot Date: 2021-10-16 09:30:02 -0400 (Sat, 16 Oct 2021)
git_url: https://git.bioconductor.org/packages/HiCDataHumanIMR90
git_branch: master
git_last_commit: f52e556
git_last_commit_date: 2021-05-19 11:48:02 -0400 (Wed, 19 May 2021)
nebbiolo2Linux (Ubuntu 20.04.2 LTS) / x86_64  OK    OK    OK  UNNEEDED, same version is already published

Summary

Package: HiCDataHumanIMR90
Version: 1.13.0
Command: /home/biocbuild/bbs-3.14-bioc/R/bin/R CMD build --keep-empty-dirs --no-resave-data HiCDataHumanIMR90
StartedAt: 2021-10-16 11:23:14 -0400 (Sat, 16 Oct 2021)
EndedAt: 2021-10-16 11:24:07 -0400 (Sat, 16 Oct 2021)
EllapsedTime: 53.7 seconds
RetCode: 0
Status:   OK  
PackageFile: HiCDataHumanIMR90_1.13.0.tar.gz
PackageFileSize: 65.73 MiB

Command output

##############################################################################
##############################################################################
###
### Running command:
###
###   /home/biocbuild/bbs-3.14-bioc/R/bin/R CMD build --keep-empty-dirs --no-resave-data HiCDataHumanIMR90
###
##############################################################################
##############################################################################


* checking for file ‘HiCDataHumanIMR90/DESCRIPTION’ ... OK
* preparing ‘HiCDataHumanIMR90’:
* checking DESCRIPTION meta-information ... OK
* installing the package to build vignettes
* creating vignettes ... OK
* checking for LF line-endings in source and make files and shell scripts
* checking for empty or unneeded directories
* looking to see if a ‘data/datalist’ file should be added
* building ‘HiCDataHumanIMR90_1.13.0.tar.gz’