Back to Build/check report for BioC 3.14 experimental data
ABCDEFG[H]IJKLMNOPQRSTUVWXYZ

This page was generated on 2021-10-23 15:51:47 -0400 (Sat, 23 Oct 2021).

BUILD results for HMP2Data on nebbiolo2

To the developers/maintainers of the HMP2Data package:
Make sure to use the following settings in order to reproduce any error or warning you see on this page.

raw results

Package 181/408HostnameOS / ArchINSTALLBUILDCHECK
HMP2Data 1.7.0  (landing page)
John Stansfield , Ekaterina Smirnova
Snapshot Date: 2021-10-23 09:30:01 -0400 (Sat, 23 Oct 2021)
git_url: https://git.bioconductor.org/packages/HMP2Data
git_branch: master
git_last_commit: 581f6a4
git_last_commit_date: 2021-05-19 12:08:33 -0400 (Wed, 19 May 2021)
nebbiolo2Linux (Ubuntu 20.04.2 LTS) / x86_64  OK    OK    OK  UNNEEDED, same version is already published

Summary

Package: HMP2Data
Version: 1.7.0
Command: /home/biocbuild/bbs-3.14-bioc/R/bin/R CMD build --keep-empty-dirs --no-resave-data HMP2Data
StartedAt: 2021-10-23 11:25:02 -0400 (Sat, 23 Oct 2021)
EndedAt: 2021-10-23 11:25:56 -0400 (Sat, 23 Oct 2021)
EllapsedTime: 53.4 seconds
RetCode: 0
Status:   OK  
PackageFile: HMP2Data_1.7.0.tar.gz
PackageFileSize: 5.094 MiB

Command output

##############################################################################
##############################################################################
###
### Running command:
###
###   /home/biocbuild/bbs-3.14-bioc/R/bin/R CMD build --keep-empty-dirs --no-resave-data HMP2Data
###
##############################################################################
##############################################################################


* checking for file ‘HMP2Data/DESCRIPTION’ ... OK
* preparing ‘HMP2Data’:
* checking DESCRIPTION meta-information ... OK
* installing the package to build vignettes
* creating vignettes ... OK
* checking for LF line-endings in source and make files and shell scripts
* checking for empty or unneeded directories
* looking to see if a ‘data/datalist’ file should be added
* building ‘HMP2Data_1.7.0.tar.gz’