Back to Build/check report for BioC 3.15 experimental data
ABCDEFG[H]IJKLMNOPQRSTUVWXYZ

This page was generated on 2021-12-02 17:50:01 -0500 (Thu, 02 Dec 2021).

INSTALL results for HIVcDNAvantWout03 on nebbiolo2

To the developers/maintainers of the HIVcDNAvantWout03 package:
Make sure to use the following settings in order to reproduce any error or warning you see on this page.

raw results

Package 177/404HostnameOS / ArchINSTALLBUILDCHECK
HIVcDNAvantWout03 1.35.0  (landing page)
Chris Fraley
Snapshot Date: 2021-12-02 07:30:02 -0500 (Thu, 02 Dec 2021)
git_url: https://git.bioconductor.org/packages/HIVcDNAvantWout03
git_branch: master
git_last_commit: 977168b
git_last_commit_date: 2021-10-26 11:40:35 -0500 (Tue, 26 Oct 2021)
nebbiolo2Linux (Ubuntu 20.04.3 LTS) / x86_64  OK    OK    WARNINGS  UNNEEDED, same version is already published

Summary

Package: HIVcDNAvantWout03
Version: 1.35.0
Command: /home/biocbuild/bbs-3.15-data-experiment/R/bin/R CMD INSTALL HIVcDNAvantWout03
StartedAt: 2021-12-02 13:00:06 -0500 (Thu, 02 Dec 2021)
EndedAt: 2021-12-02 13:00:07 -0500 (Thu, 02 Dec 2021)
EllapsedTime: 1.0 seconds
RetCode: 0
Status:   OK  

Command output

##############################################################################
##############################################################################
###
### Running command:
###
###   /home/biocbuild/bbs-3.15-data-experiment/R/bin/R CMD INSTALL HIVcDNAvantWout03
###
##############################################################################
##############################################################################


* installing to library ‘/home/biocbuild/bbs-3.15-data-experiment/R/library’
* installing *source* package ‘HIVcDNAvantWout03’ ...
** using staged installation
** data
** help
*** installing help indices
** building package indices
Read 450000 items
Read 450000 items
** installing vignettes
** testing if installed package can be loaded from temporary location
** testing if installed package can be loaded from final location
** testing if installed package keeps a record of temporary installation path
* DONE (HIVcDNAvantWout03)