Back to Build/check report for BioC 3.14 experimental data
ABCDEFG[H]IJKLMNOPQRSTUVWXYZ

This page was generated on 2021-10-19 15:52:18 -0400 (Tue, 19 Oct 2021).

BUILD results for HIVcDNAvantWout03 on nebbiolo2

To the developers/maintainers of the HIVcDNAvantWout03 package:
Make sure to use the following settings in order to reproduce any error or warning you see on this page.

raw results

Package 178/404HostnameOS / ArchINSTALLBUILDCHECK
HIVcDNAvantWout03 1.33.0  (landing page)
Chris Fraley
Snapshot Date: 2021-10-19 09:30:02 -0400 (Tue, 19 Oct 2021)
git_url: https://git.bioconductor.org/packages/HIVcDNAvantWout03
git_branch: master
git_last_commit: 0f3625b
git_last_commit_date: 2021-05-19 11:25:20 -0400 (Wed, 19 May 2021)
nebbiolo2Linux (Ubuntu 20.04.2 LTS) / x86_64  OK    OK    WARNINGS  UNNEEDED, same version is already published

Summary

Package: HIVcDNAvantWout03
Version: 1.33.0
Command: /home/biocbuild/bbs-3.14-bioc/R/bin/R CMD build --keep-empty-dirs --no-resave-data HIVcDNAvantWout03
StartedAt: 2021-10-19 11:24:19 -0400 (Tue, 19 Oct 2021)
EndedAt: 2021-10-19 11:24:23 -0400 (Tue, 19 Oct 2021)
EllapsedTime: 3.9 seconds
RetCode: 0
Status:   OK  
PackageFile: HIVcDNAvantWout03_1.33.0.tar.gz
PackageFileSize: 1.711 MiB

Command output

##############################################################################
##############################################################################
###
### Running command:
###
###   /home/biocbuild/bbs-3.14-bioc/R/bin/R CMD build --keep-empty-dirs --no-resave-data HIVcDNAvantWout03
###
##############################################################################
##############################################################################


* checking for file ‘HIVcDNAvantWout03/DESCRIPTION’ ... OK
* preparing ‘HIVcDNAvantWout03’:
* checking DESCRIPTION meta-information ... OK
* checking whether ‘INDEX’ is up-to-date ... NO
* use ‘--force’ to remove the existing ‘INDEX’
* checking for LF line-endings in source and make files and shell scripts
* checking for empty or unneeded directories
* looking to see if a ‘data/datalist’ file should be added
Read 450000 items
Read 450000 items
* building ‘HIVcDNAvantWout03_1.33.0.tar.gz’