Back to Build/check report for BioC 3.15 experimental data
ABCDEFG[H]IJKLMNOPQRSTUVWXYZ

This page was generated on 2021-10-26 15:49:12 -0400 (Tue, 26 Oct 2021).

All results for package HIVcDNAvantWout03

To the developers/maintainers of the HIVcDNAvantWout03 package:
Make sure to use the following settings in order to reproduce any error or warning you see on this page.

raw results

Package 177/403HostnameOS / ArchINSTALLBUILDCHECK
HIVcDNAvantWout03 1.33.0  (landing page)
Chris Fraley
Snapshot Date: 2021-10-26 09:30:01 -0400 (Tue, 26 Oct 2021)
git_url: https://git.bioconductor.org/packages/HIVcDNAvantWout03
git_branch: master
git_last_commit: 0f3625b
git_last_commit_date: 2021-05-19 11:25:20 -0400 (Wed, 19 May 2021)
nebbiolo1Linux (Ubuntu 20.04.2 LTS) / x86_64  OK    OK    WARNINGS  YES