Back to Build/check report for BioC 3.15 experimental data
ABCDEFG[H]IJKLMNOPQRSTUVWXYZ

This page was generated on 2021-11-28 18:35:03 -0500 (Sun, 28 Nov 2021).

INSTALL results for HDCytoData on nebbiolo2

To the developers/maintainers of the HDCytoData package:
Make sure to use the following settings in order to reproduce any error or warning you see on this page.

raw results

Package 165/404HostnameOS / ArchINSTALLBUILDCHECK
HDCytoData 1.15.0  (landing page)
Lukas M. Weber
Snapshot Date: 2021-11-28 08:30:02 -0500 (Sun, 28 Nov 2021)
git_url: https://git.bioconductor.org/packages/HDCytoData
git_branch: master
git_last_commit: 1739429
git_last_commit_date: 2021-10-26 12:31:46 -0500 (Tue, 26 Oct 2021)
nebbiolo2Linux (Ubuntu 20.04.3 LTS) / x86_64  OK    OK    OK  UNNEEDED, same version is already published

Summary

Package: HDCytoData
Version: 1.15.0
Command: /home/biocbuild/bbs-3.15-data-experiment/R/bin/R CMD INSTALL HDCytoData
StartedAt: 2021-11-28 14:03:52 -0500 (Sun, 28 Nov 2021)
EndedAt: 2021-11-28 14:04:20 -0500 (Sun, 28 Nov 2021)
EllapsedTime: 27.8 seconds
RetCode: 0
Status:   OK  

Command output

##############################################################################
##############################################################################
###
### Running command:
###
###   /home/biocbuild/bbs-3.15-data-experiment/R/bin/R CMD INSTALL HDCytoData
###
##############################################################################
##############################################################################


* installing to library ‘/home/biocbuild/bbs-3.15-data-experiment/R/library’
* installing *source* package ‘HDCytoData’ ...
** using staged installation
** R
** inst
** byte-compile and prepare package for lazy loading
** help
*** installing help indices
** building package indices
** installing vignettes
** testing if installed package can be loaded from temporary location
snapshotDate(): 2021-11-24
** testing if installed package can be loaded from final location
snapshotDate(): 2021-11-24
** testing if installed package keeps a record of temporary installation path
* DONE (HDCytoData)