Back to Build/check report for BioC 3.14 experimental data
ABCDEFG[H]IJKLMNOPQRSTUVWXYZ

This page was generated on 2021-10-16 15:51:46 -0400 (Sat, 16 Oct 2021).

BUILD results for HDCytoData on nebbiolo2

To the developers/maintainers of the HDCytoData package:
Make sure to use the following settings in order to reproduce any error or warning you see on this page.

raw results

Package 166/404HostnameOS / ArchINSTALLBUILDCHECK
HDCytoData 1.13.0  (landing page)
Lukas M. Weber
Snapshot Date: 2021-10-16 09:30:02 -0400 (Sat, 16 Oct 2021)
git_url: https://git.bioconductor.org/packages/HDCytoData
git_branch: master
git_last_commit: 17bf796
git_last_commit_date: 2021-05-19 12:04:31 -0400 (Wed, 19 May 2021)
nebbiolo2Linux (Ubuntu 20.04.2 LTS) / x86_64  OK    OK    OK  UNNEEDED, same version is already published

Summary

Package: HDCytoData
Version: 1.13.0
Command: /home/biocbuild/bbs-3.14-bioc/R/bin/R CMD build --keep-empty-dirs --no-resave-data HDCytoData
StartedAt: 2021-10-16 11:22:34 -0400 (Sat, 16 Oct 2021)
EndedAt: 2021-10-16 11:24:36 -0400 (Sat, 16 Oct 2021)
EllapsedTime: 122.2 seconds
RetCode: 0
Status:   OK  
PackageFile: HDCytoData_1.13.0.tar.gz
PackageFileSize: 1.47 MiB

Command output

##############################################################################
##############################################################################
###
### Running command:
###
###   /home/biocbuild/bbs-3.14-bioc/R/bin/R CMD build --keep-empty-dirs --no-resave-data HDCytoData
###
##############################################################################
##############################################################################


* checking for file ‘HDCytoData/DESCRIPTION’ ... OK
* preparing ‘HDCytoData’:
* checking DESCRIPTION meta-information ... OK
* installing the package to build vignettes
* creating vignettes ... OK
* checking for LF line-endings in source and make files and shell scripts
* checking for empty or unneeded directories
* building ‘HDCytoData_1.13.0.tar.gz’