Back to Build/check report for BioC 3.14 experimental data
ABCDEFG[H]IJKLMNOPQRSTUVWXYZ

This page was generated on 2021-10-23 15:51:47 -0400 (Sat, 23 Oct 2021).

CHECK results for HD2013SGI on nebbiolo2

To the developers/maintainers of the HD2013SGI package:
Make sure to use the following settings in order to reproduce any error or warning you see on this page.

raw results

Package 166/408HostnameOS / ArchINSTALLBUILDCHECK
HD2013SGI 1.33.0  (landing page)
Mike Smith
Snapshot Date: 2021-10-23 09:30:01 -0400 (Sat, 23 Oct 2021)
git_url: https://git.bioconductor.org/packages/HD2013SGI
git_branch: master
git_last_commit: 9084571
git_last_commit_date: 2021-05-19 11:39:44 -0400 (Wed, 19 May 2021)
nebbiolo2Linux (Ubuntu 20.04.2 LTS) / x86_64  OK    OK    OK  UNNEEDED, same version is already published

Summary

Package: HD2013SGI
Version: 1.33.0
Command: /home/biocbuild/bbs-3.14-bioc/R/bin/R CMD check --install=check:HD2013SGI.install-out.txt --library=/home/biocbuild/bbs-3.14-bioc/R/library --no-vignettes --timings HD2013SGI_1.33.0.tar.gz
StartedAt: 2021-10-23 12:23:34 -0400 (Sat, 23 Oct 2021)
EndedAt: 2021-10-23 12:27:06 -0400 (Sat, 23 Oct 2021)
EllapsedTime: 212.4 seconds
RetCode: 0
Status:   OK  
CheckDir: HD2013SGI.Rcheck
Warnings: 0

Command output

##############################################################################
##############################################################################
###
### Running command:
###
###   /home/biocbuild/bbs-3.14-bioc/R/bin/R CMD check --install=check:HD2013SGI.install-out.txt --library=/home/biocbuild/bbs-3.14-bioc/R/library --no-vignettes --timings HD2013SGI_1.33.0.tar.gz
###
##############################################################################
##############################################################################


* using log directory ‘/home/biocbuild/bbs-3.14-data-experiment/meat/HD2013SGI.Rcheck’
* using R version 4.1.1 (2021-08-10)
* using platform: x86_64-pc-linux-gnu (64-bit)
* using session charset: UTF-8
* using option ‘--no-vignettes’
* checking for file ‘HD2013SGI/DESCRIPTION’ ... OK
* checking extension type ... Package
* this is package ‘HD2013SGI’ version ‘1.33.0’
* checking package namespace information ... OK
* checking package dependencies ... NOTE
Depends: includes the non-default packages:
  'RColorBrewer', 'gplots', 'geneplotter', 'splots', 'limma', 'vcd',
  'LSD', 'EBImage'
Adding so many packages to the search path is excessive and importing
selectively is preferable.
* checking if this is a source package ... OK
* checking if there is a namespace ... OK
* checking for hidden files and directories ... OK
* checking for portable file names ... OK
* checking for sufficient/correct file permissions ... OK
* checking whether package ‘HD2013SGI’ can be installed ... OK
* checking installed package size ... NOTE
  installed size is 525.2Mb
  sub-directories of 1Mb or more:
    data  524.1Mb
* checking package directory ... OK
* checking ‘build’ directory ... OK
* checking DESCRIPTION meta-information ... OK
* checking top-level files ... OK
* checking for left-over files ... OK
* checking index information ... OK
* checking package subdirectories ... OK
* checking R files for non-ASCII characters ... OK
* checking R files for syntax errors ... OK
* checking whether the package can be loaded ... OK
* checking whether the package can be loaded with stated dependencies ... OK
* checking whether the package can be unloaded cleanly ... OK
* checking whether the namespace can be loaded with stated dependencies ... OK
* checking whether the namespace can be unloaded cleanly ... OK
* checking dependencies in R code ... NOTE
Packages in Depends field not imported from:
  ‘EBImage’ ‘LSD’ ‘RColorBrewer’ ‘geneplotter’ ‘gplots’ ‘limma’
  ‘splots’ ‘vcd’
  These packages need to be imported from (in the NAMESPACE file)
  for when this namespace is loaded but not attached.
There are ::: calls to the package's namespace in its code. A package
  almost never needs to use ::: for its own objects:
  ‘humanReadableNames’
* checking S3 generic/method consistency ... OK
* checking replacement functions ... OK
* checking foreign function calls ... OK
* checking R code for possible problems ... NOTE
HD2013SGIHeatmapHuman: no visible global function definition for ‘unit’
HD2013SGIHeatmapHuman: no visible global function definition for
  ‘pushViewport’
HD2013SGIHeatmapHuman: no visible global function definition for
  ‘viewport’
HD2013SGIHeatmapHuman: no visible global function definition for
  ‘grid.layout’
HD2013SGIHeatmapHuman: no visible global function definition for
  ‘grid.rect’
HD2013SGIHeatmapHuman: no visible global function definition for
  ‘grid.raster’
HD2013SGIHeatmapHuman: no visible global function definition for
  ‘popViewport’
HD2013SGIHeatmapHuman: no visible global function definition for
  ‘grid.text’
HD2013SGIHeatmapHuman: no visible global function definition for ‘gpar’
HD2013SGImaineffects: no visible binding for global variable ‘median’
HD2013SGImaineffects : <anonymous>: no visible binding for global
  variable ‘median’
HD2013SGImaineffects: no visible global function definition for
  ‘median’
HD2013SGIorderDim: no visible global function definition for ‘cor’
HD2013SGIorderDim: no visible global function definition for ‘hclust’
HD2013SGIorderDim: no visible global function definition for ‘as.dist’
HD2013SGIselectByStability: no visible global function definition for
  ‘lm’
HD2013SGIselectByStability : <anonymous>: no visible global function
  definition for ‘cor’
plotExampleInteractions: no visible binding for global variable ‘sd’
plotExampleInteractions: no visible global function definition for
  ‘par’
plotExampleInteractions: no visible global function definition for
  ‘barplot’
plotExampleInteractions: no visible global function definition for
  ‘abline’
plotExampleInteractions: no visible global function definition for
  ‘points’
plotExampleInteractions: no visible global function definition for
  ‘text’
plotExampleSingleGeneEffects: no visible global function definition for
  ‘mad’
plotExampleSingleGeneEffects: no visible global function definition for
  ‘par’
plotExampleSingleGeneEffects: no visible global function definition for
  ‘barplot’
plotExampleSingleGeneEffects: no visible global function definition for
  ‘abline’
plotExampleSingleGeneEffects: no visible global function definition for
  ‘points’
Undefined global functions or variables:
  abline as.dist barplot cor gpar grid.layout grid.raster grid.rect
  grid.text hclust lm mad median par points popViewport pushViewport sd
  text unit viewport
Consider adding
  importFrom("graphics", "abline", "barplot", "par", "points", "text")
  importFrom("stats", "as.dist", "cor", "hclust", "lm", "mad", "median",
             "sd")
to your NAMESPACE file.
* checking Rd files ... OK
* checking Rd metadata ... OK
* checking Rd cross-references ... OK
* checking for missing documentation entries ... OK
* checking for code/documentation mismatches ... OK
* checking Rd \usage sections ... OK
* checking Rd contents ... OK
* checking for unstated dependencies in examples ... OK
* checking contents of ‘data’ directory ... OK
* checking data for non-ASCII characters ... OK
* checking data for ASCII and uncompressed saves ... OK
* checking line endings in Makefiles ... OK
* checking for GNU extensions in Makefiles ... OK
* checking include directives in Makefiles ... OK
* checking files in ‘vignettes’ ... OK
* checking examples ... OK
Examples with CPU (user + system) or elapsed time > 5s
                  user system elapsed
featuresPerWell 33.179  0.503  33.683
datamatrixfull   7.443  0.179   7.623
* checking for unstated dependencies in vignettes ... OK
* checking package vignettes in ‘inst/doc’ ... OK
* checking running R code from vignettes ... SKIPPED
* checking re-building of vignette outputs ... SKIPPED
* checking PDF version of manual ... OK
* DONE

Status: 4 NOTEs
See
  ‘/home/biocbuild/bbs-3.14-data-experiment/meat/HD2013SGI.Rcheck/00check.log’
for details.



Installation output

HD2013SGI.Rcheck/00install.out

##############################################################################
##############################################################################
###
### Running command:
###
###   /home/biocbuild/bbs-3.14-bioc/R/bin/R CMD INSTALL HD2013SGI
###
##############################################################################
##############################################################################


* installing to library ‘/home/biocbuild/bbs-3.14-bioc/R/library’
* installing *source* package ‘HD2013SGI’ ...
** using staged installation
** R
** data
** inst
** byte-compile and prepare package for lazy loading
** help
*** installing help indices
** building package indices
** installing vignettes
** testing if installed package can be loaded from temporary location
** testing if installed package can be loaded from final location
** testing if installed package keeps a record of temporary installation path
* DONE (HD2013SGI)

Tests output


Example timings

HD2013SGI.Rcheck/HD2013SGI-Ex.timings

nameusersystemelapsed
HD2013SGI-package0.0420.0000.042
Interactions0.0460.0070.054
QueryAnnotation0.0010.0000.001
TargetAnnotation0.0030.0000.003
datamatrix0.0460.0040.050
datamatrixfull7.4430.1797.623
featuresPerWell33.179 0.50333.683
mainEffects0.2310.0080.239
nrOfInteractionsPerTarget0.0090.0000.009
stabilitySelection0.010.000.01