Back to Build/check report for BioC 3.14 experimental data
ABCDEFG[H]IJKLMNOPQRSTUVWXYZ

This page was generated on 2021-10-16 15:51:46 -0400 (Sat, 16 Oct 2021).

BUILD results for HCAData on nebbiolo2

To the developers/maintainers of the HCAData package:
Make sure to use the following settings in order to reproduce any error or warning you see on this page.

raw results

Package 164/404HostnameOS / ArchINSTALLBUILDCHECK
HCAData 1.9.0  (landing page)
Federico Marini
Snapshot Date: 2021-10-16 09:30:02 -0400 (Sat, 16 Oct 2021)
git_url: https://git.bioconductor.org/packages/HCAData
git_branch: master
git_last_commit: d08da1f
git_last_commit_date: 2021-05-19 12:07:05 -0400 (Wed, 19 May 2021)
nebbiolo2Linux (Ubuntu 20.04.2 LTS) / x86_64  OK    OK    OK  UNNEEDED, same version is already published

Summary

Package: HCAData
Version: 1.9.0
Command: /home/biocbuild/bbs-3.14-bioc/R/bin/R CMD build --keep-empty-dirs --no-resave-data HCAData
StartedAt: 2021-10-16 11:22:06 -0400 (Sat, 16 Oct 2021)
EndedAt: 2021-10-16 11:24:34 -0400 (Sat, 16 Oct 2021)
EllapsedTime: 147.8 seconds
RetCode: 0
Status:   OK  
PackageFile: HCAData_1.9.0.tar.gz
PackageFileSize: 1.455 MiB

Command output

##############################################################################
##############################################################################
###
### Running command:
###
###   /home/biocbuild/bbs-3.14-bioc/R/bin/R CMD build --keep-empty-dirs --no-resave-data HCAData
###
##############################################################################
##############################################################################


* checking for file ‘HCAData/DESCRIPTION’ ... OK
* preparing ‘HCAData’:
* checking DESCRIPTION meta-information ... OK
* installing the package to build vignettes
* creating vignettes ... OK
* checking for LF line-endings in source and make files and shell scripts
* checking for empty or unneeded directories
WARNING: directory ‘HCAData/build’ is empty
* building ‘HCAData_1.9.0.tar.gz’