Back to Build/check report for BioC 3.14 experimental data
ABCDEF[G]HIJKLMNOPQRSTUVWXYZ

This page was generated on 2021-10-23 15:51:46 -0400 (Sat, 23 Oct 2021).

All results for package GSE62944

To the developers/maintainers of the GSE62944 package:
Make sure to use the following settings in order to reproduce any error or warning you see on this page.

raw results

Package 152/408HostnameOS / ArchINSTALLBUILDCHECK
GSE62944 1.21.1  (landing page)
Bioconductor Package Maintainer
Snapshot Date: 2021-10-23 09:30:01 -0400 (Sat, 23 Oct 2021)
git_url: https://git.bioconductor.org/packages/GSE62944
git_branch: master
git_last_commit: 5e38eef
git_last_commit_date: 2021-06-17 07:52:41 -0400 (Thu, 17 Jun 2021)
nebbiolo2Linux (Ubuntu 20.04.2 LTS) / x86_64  OK    OK    OK  UNNEEDED, same version is already published