Back to Build/check report for BioC 3.14 experimental data
ABCDEF[G]HIJKLMNOPQRSTUVWXYZ

This page was generated on 2021-10-16 15:51:46 -0400 (Sat, 16 Oct 2021).

INSTALL results for GSE159526 on nebbiolo2

To the developers/maintainers of the GSE159526 package:
Make sure to use the following settings in order to reproduce any error or warning you see on this page.

raw results

Package 150/404HostnameOS / ArchINSTALLBUILDCHECK
GSE159526 0.99.2  (landing page)
Victor Yuan
Snapshot Date: 2021-10-16 09:30:02 -0400 (Sat, 16 Oct 2021)
git_url: https://git.bioconductor.org/packages/GSE159526
git_branch: master
git_last_commit: ab1214d
git_last_commit_date: 2021-07-02 13:47:13 -0400 (Fri, 02 Jul 2021)
nebbiolo2Linux (Ubuntu 20.04.2 LTS) / x86_64  OK    OK    OK  UNNEEDED, same version is already published

Summary

Package: GSE159526
Version: 0.99.2
Command: /home/biocbuild/bbs-3.14-bioc/R/bin/R CMD INSTALL GSE159526
StartedAt: 2021-10-16 11:00:32 -0400 (Sat, 16 Oct 2021)
EndedAt: 2021-10-16 11:00:33 -0400 (Sat, 16 Oct 2021)
EllapsedTime: 1.3 seconds
RetCode: 0
Status:   OK  

Command output

##############################################################################
##############################################################################
###
### Running command:
###
###   /home/biocbuild/bbs-3.14-bioc/R/bin/R CMD INSTALL GSE159526
###
##############################################################################
##############################################################################


* installing to library ‘/home/biocbuild/bbs-3.14-bioc/R/library’
* installing *source* package ‘GSE159526’ ...
** using staged installation
** inst
** help
*** installing help indices
** building package indices
** installing vignettes
** testing if installed package can be loaded from temporary location
** testing if installed package can be loaded from final location
** testing if installed package keeps a record of temporary installation path
* DONE (GSE159526)