Back to Build/check report for BioC 3.15 experimental data
ABCDEF[G]HIJKLMNOPQRSTUVWXYZ

This page was generated on 2021-10-26 15:49:12 -0400 (Tue, 26 Oct 2021).

All results for package GSE13015

To the developers/maintainers of the GSE13015 package:
Make sure to use the following settings in order to reproduce any error or warning you see on this page.

raw results

Package 148/403HostnameOS / ArchINSTALLBUILDCHECK
GSE13015 1.1.0  (landing page)
Darawan Rinchai
Snapshot Date: 2021-10-26 09:30:01 -0400 (Tue, 26 Oct 2021)
git_url: https://git.bioconductor.org/packages/GSE13015
git_branch: master
git_last_commit: 11ea831
git_last_commit_date: 2021-05-19 12:12:55 -0400 (Wed, 19 May 2021)
nebbiolo1Linux (Ubuntu 20.04.2 LTS) / x86_64  OK    OK    OK  NO, package depends on 'Biobase' which is not available