Back to Build/check report for BioC 3.15 experimental data
ABCDEF[G]HIJKLMNOPQRSTUVWXYZ

This page was generated on 2021-10-26 15:49:12 -0400 (Tue, 26 Oct 2021).

All results for package GSE103322

To the developers/maintainers of the GSE103322 package:
Make sure to use the following settings in order to reproduce any error or warning you see on this page.

raw results

Package 147/403HostnameOS / ArchINSTALLBUILDCHECK
GSE103322 0.99.1  (landing page)
Mariano Alvarez
Snapshot Date: 2021-10-26 09:30:01 -0400 (Tue, 26 Oct 2021)
git_url: https://git.bioconductor.org/packages/GSE103322
git_branch: master
git_last_commit: 75650f3
git_last_commit_date: 2021-05-13 12:20:52 -0400 (Thu, 13 May 2021)
nebbiolo1Linux (Ubuntu 20.04.2 LTS) / x86_64  OK    OK    OK  NO, package depends on 'Biobase' which is not available