Index of /checkResults/devel/data-experiment-LATEST/FlowSorted.CordBloodCombined.450k/raw-results

[ICO]NameLast modifiedSizeDescription

[DIR]Parent Directory  -  
[   ]info.dcf03-Dec-2021 07:50 331  
[DIR]nebbiolo2/03-Dec-2021 07:50 -