Back to Build/check report for BioC 3.14 experimental data
ABCDE[F]GHIJKLMNOPQRSTUVWXYZ

This page was generated on 2021-10-16 15:51:46 -0400 (Sat, 16 Oct 2021).

BUILD results for FlowSorted.CordBloodCombined.450k on nebbiolo2

To the developers/maintainers of the FlowSorted.CordBloodCombined.450k package:
Make sure to use the following settings in order to reproduce any error or warning you see on this page.

raw results

Package 129/404HostnameOS / ArchINSTALLBUILDCHECK
FlowSorted.CordBloodCombined.450k 1.9.0  (landing page)
Lucas A. Salas
Snapshot Date: 2021-10-16 09:30:02 -0400 (Sat, 16 Oct 2021)
git_url: https://git.bioconductor.org/packages/FlowSorted.CordBloodCombined.450k
git_branch: master
git_last_commit: ac99dd4
git_last_commit_date: 2021-05-19 12:07:45 -0400 (Wed, 19 May 2021)
nebbiolo2Linux (Ubuntu 20.04.2 LTS) / x86_64  OK    OK    OK  UNNEEDED, same version is already published

Summary

Package: FlowSorted.CordBloodCombined.450k
Version: 1.9.0
Command: /home/biocbuild/bbs-3.14-bioc/R/bin/R CMD build --keep-empty-dirs --no-resave-data FlowSorted.CordBloodCombined.450k
StartedAt: 2021-10-16 11:18:24 -0400 (Sat, 16 Oct 2021)
EndedAt: 2021-10-16 11:21:26 -0400 (Sat, 16 Oct 2021)
EllapsedTime: 182.3 seconds
RetCode: 0
Status:   OK  
PackageFile: FlowSorted.CordBloodCombined.450k_1.9.0.tar.gz
PackageFileSize: 56.47 KiB

Command output

##############################################################################
##############################################################################
###
### Running command:
###
###   /home/biocbuild/bbs-3.14-bioc/R/bin/R CMD build --keep-empty-dirs --no-resave-data FlowSorted.CordBloodCombined.450k
###
##############################################################################
##############################################################################


* checking for file ‘FlowSorted.CordBloodCombined.450k/DESCRIPTION’ ... OK
* preparing ‘FlowSorted.CordBloodCombined.450k’:
* checking DESCRIPTION meta-information ... OK
* installing the package to build vignettes
* creating vignettes ... OK
* checking for LF line-endings in source and make files and shell scripts
* checking for empty or unneeded directories
WARNING: directory ‘FlowSorted.CordBloodCombined.450k/FlowSorted.CordBloodCombined.450k’ is empty
* looking to see if a ‘data/datalist’ file should be added
* building ‘FlowSorted.CordBloodCombined.450k_1.9.0.tar.gz’