Back to Build/check report for BioC 3.14 experimental data
ABCDE[F]GHIJKLMNOPQRSTUVWXYZ

This page was generated on 2021-10-23 15:51:46 -0400 (Sat, 23 Oct 2021).

All results for package FlowSorted.Blood.EPIC

To the developers/maintainers of the FlowSorted.Blood.EPIC package:
Make sure to use the following settings in order to reproduce any error or warning you see on this page.

raw results

Package 128/408HostnameOS / ArchINSTALLBUILDCHECK
FlowSorted.Blood.EPIC 1.11.0  (landing page)
Lucas A. Salas
Snapshot Date: 2021-10-23 09:30:01 -0400 (Sat, 23 Oct 2021)
git_url: https://git.bioconductor.org/packages/FlowSorted.Blood.EPIC
git_branch: master
git_last_commit: abecbea
git_last_commit_date: 2021-05-19 12:04:58 -0400 (Wed, 19 May 2021)
nebbiolo2Linux (Ubuntu 20.04.2 LTS) / x86_64  OK    OK    OK  UNNEEDED, same version is already published