Back to Build/check report for BioC 3.14 experimental data
ABCDE[F]GHIJKLMNOPQRSTUVWXYZ

This page was generated on 2021-10-16 15:51:46 -0400 (Sat, 16 Oct 2021).

BUILD results for Fletcher2013b on nebbiolo2

To the developers/maintainers of the Fletcher2013b package:
Make sure to use the following settings in order to reproduce any error or warning you see on this page.

raw results

Package 124/404HostnameOS / ArchINSTALLBUILDCHECK
Fletcher2013b 1.29.0  (landing page)
Mauro Castro
Snapshot Date: 2021-10-16 09:30:02 -0400 (Sat, 16 Oct 2021)
git_url: https://git.bioconductor.org/packages/Fletcher2013b
git_branch: master
git_last_commit: e338da0
git_last_commit_date: 2021-05-19 11:43:16 -0400 (Wed, 19 May 2021)
nebbiolo2Linux (Ubuntu 20.04.2 LTS) / x86_64  OK    OK    OK  UNNEEDED, same version is already published

Summary

Package: Fletcher2013b
Version: 1.29.0
Command: /home/biocbuild/bbs-3.14-bioc/R/bin/R CMD build --keep-empty-dirs --no-resave-data Fletcher2013b
StartedAt: 2021-10-16 11:18:10 -0400 (Sat, 16 Oct 2021)
EndedAt: 2021-10-16 11:18:44 -0400 (Sat, 16 Oct 2021)
EllapsedTime: 34.7 seconds
RetCode: 0
Status:   OK  
PackageFile: Fletcher2013b_1.29.0.tar.gz
PackageFileSize: 263.4 MiB

Command output

##############################################################################
##############################################################################
###
### Running command:
###
###   /home/biocbuild/bbs-3.14-bioc/R/bin/R CMD build --keep-empty-dirs --no-resave-data Fletcher2013b
###
##############################################################################
##############################################################################


* checking for file ‘Fletcher2013b/DESCRIPTION’ ... OK
* preparing ‘Fletcher2013b’:
* checking DESCRIPTION meta-information ... OK
* installing the package to build vignettes
* creating vignettes ... OK
* checking for LF line-endings in source and make files and shell scripts
* checking for empty or unneeded directories
* looking to see if a ‘data/datalist’ file should be added
* building ‘Fletcher2013b_1.29.0.tar.gz’