Back to Build/check report for BioC 3.14 experimental data
ABCDE[F]GHIJKLMNOPQRSTUVWXYZ

This page was generated on 2021-10-23 15:51:47 -0400 (Sat, 23 Oct 2021).

CHECK results for FieldEffectCrc on nebbiolo2

To the developers/maintainers of the FieldEffectCrc package:
Make sure to use the following settings in order to reproduce any error or warning you see on this page.

raw results

Package 121/408HostnameOS / ArchINSTALLBUILDCHECK
FieldEffectCrc 1.3.0  (landing page)
Christopher Dampier
Snapshot Date: 2021-10-23 09:30:01 -0400 (Sat, 23 Oct 2021)
git_url: https://git.bioconductor.org/packages/FieldEffectCrc
git_branch: master
git_last_commit: d77c4b2
git_last_commit_date: 2021-05-19 12:10:39 -0400 (Wed, 19 May 2021)
nebbiolo2Linux (Ubuntu 20.04.2 LTS) / x86_64  OK    OK    OK  UNNEEDED, same version is already published

Summary

Package: FieldEffectCrc
Version: 1.3.0
Command: /home/biocbuild/bbs-3.14-bioc/R/bin/R CMD check --install=check:FieldEffectCrc.install-out.txt --library=/home/biocbuild/bbs-3.14-bioc/R/library --no-vignettes --timings FieldEffectCrc_1.3.0.tar.gz
StartedAt: 2021-10-23 12:19:41 -0400 (Sat, 23 Oct 2021)
EndedAt: 2021-10-23 12:24:12 -0400 (Sat, 23 Oct 2021)
EllapsedTime: 271.1 seconds
RetCode: 0
Status:   OK  
CheckDir: FieldEffectCrc.Rcheck
Warnings: 0

Command output

##############################################################################
##############################################################################
###
### Running command:
###
###   /home/biocbuild/bbs-3.14-bioc/R/bin/R CMD check --install=check:FieldEffectCrc.install-out.txt --library=/home/biocbuild/bbs-3.14-bioc/R/library --no-vignettes --timings FieldEffectCrc_1.3.0.tar.gz
###
##############################################################################
##############################################################################


* using log directory ‘/home/biocbuild/bbs-3.14-data-experiment/meat/FieldEffectCrc.Rcheck’
* using R version 4.1.1 (2021-08-10)
* using platform: x86_64-pc-linux-gnu (64-bit)
* using session charset: UTF-8
* using option ‘--no-vignettes’
* checking for file ‘FieldEffectCrc/DESCRIPTION’ ... OK
* this is package ‘FieldEffectCrc’ version ‘1.3.0’
* package encoding: UTF-8
* checking package namespace information ... OK
* checking package dependencies ... OK
* checking if this is a source package ... OK
* checking if there is a namespace ... OK
* checking for hidden files and directories ... OK
* checking for portable file names ... OK
* checking for sufficient/correct file permissions ... OK
* checking whether package ‘FieldEffectCrc’ can be installed ... OK
* checking installed package size ... OK
* checking package directory ... OK
* checking ‘build’ directory ... OK
* checking DESCRIPTION meta-information ... OK
* checking top-level files ... OK
* checking for left-over files ... OK
* checking index information ... OK
* checking package subdirectories ... OK
* checking R files for non-ASCII characters ... OK
* checking R files for syntax errors ... OK
* checking whether the package can be loaded ... OK
* checking whether the package can be loaded with stated dependencies ... OK
* checking whether the package can be unloaded cleanly ... OK
* checking whether the namespace can be loaded with stated dependencies ... OK
* checking whether the namespace can be unloaded cleanly ... OK
* checking dependencies in R code ... OK
* checking S3 generic/method consistency ... OK
* checking replacement functions ... OK
* checking foreign function calls ... OK
* checking R code for possible problems ... OK
* checking Rd files ... OK
* checking Rd metadata ... OK
* checking Rd cross-references ... OK
* checking for missing documentation entries ... OK
* checking for code/documentation mismatches ... OK
* checking Rd \usage sections ... OK
* checking Rd contents ... OK
* checking for unstated dependencies in examples ... OK
* checking files in ‘vignettes’ ... OK
* checking examples ... OK
Examples with CPU (user + system) or elapsed time > 5s
                 user system elapsed
FieldEffectCrc 25.134  1.160  27.962
cohort_A       10.426  1.324  12.590
cohort_C        6.211  0.300   7.452
reorder_assays  5.457  0.632   6.466
cohort_B        5.449  0.212   6.600
make_txi        4.869  0.464   5.764
* checking for unstated dependencies in ‘tests’ ... OK
* checking tests ...
  Running ‘runTests.R’
 OK
* checking for unstated dependencies in vignettes ... OK
* checking package vignettes in ‘inst/doc’ ... OK
* checking running R code from vignettes ... SKIPPED
* checking re-building of vignette outputs ... SKIPPED
* checking PDF version of manual ... OK
* DONE

Status: OK


Installation output

FieldEffectCrc.Rcheck/00install.out

##############################################################################
##############################################################################
###
### Running command:
###
###   /home/biocbuild/bbs-3.14-bioc/R/bin/R CMD INSTALL FieldEffectCrc
###
##############################################################################
##############################################################################


* installing to library ‘/home/biocbuild/bbs-3.14-bioc/R/library’
* installing *source* package ‘FieldEffectCrc’ ...
** using staged installation
** R
** inst
** byte-compile and prepare package for lazy loading
** help
*** installing help indices
** building package indices
** installing vignettes
** testing if installed package can be loaded from temporary location
snapshotDate(): 2021-10-18
** testing if installed package can be loaded from final location
snapshotDate(): 2021-10-18
** testing if installed package keeps a record of temporary installation path
* DONE (FieldEffectCrc)

Tests output

FieldEffectCrc.Rcheck/tests/runTests.Rout


R version 4.1.1 (2021-08-10) -- "Kick Things"
Copyright (C) 2021 The R Foundation for Statistical Computing
Platform: x86_64-pc-linux-gnu (64-bit)

R is free software and comes with ABSOLUTELY NO WARRANTY.
You are welcome to redistribute it under certain conditions.
Type 'license()' or 'licence()' for distribution details.

R is a collaborative project with many contributors.
Type 'contributors()' for more information and
'citation()' on how to cite R or R packages in publications.

Type 'demo()' for some demos, 'help()' for on-line help, or
'help.start()' for an HTML browser interface to help.
Type 'q()' to quit R.

> BiocGenerics:::testPackage("FieldEffectCrc")
snapshotDate(): 2021-10-18
snapshotDate(): 2021-10-18
see ?FieldEffectCrc and browseVignettes('FieldEffectCrc') for documentation
loading from cache
snapshotDate(): 2021-10-18
see ?FieldEffectCrc and browseVignettes('FieldEffectCrc') for documentation
loading from cache
snapshotDate(): 2021-10-18
see ?FieldEffectCrc and browseVignettes('FieldEffectCrc') for documentation
loading from cache


RUNIT TEST PROTOCOL -- Sat Oct 23 12:24:10 2021 
*********************************************** 
Number of test functions: 3 
Number of errors: 0 
Number of failures: 0 

 
1 Test Suite : 
FieldEffectCrc RUnit Tests - 3 test functions, 0 errors, 0 failures
Number of test functions: 3 
Number of errors: 0 
Number of failures: 0 
> 
> proc.time()
   user  system elapsed 
 20.449   1.361  23.504 

Example timings

FieldEffectCrc.Rcheck/FieldEffectCrc-Ex.timings

nameusersystemelapsed
FieldEffectCrc25.134 1.16027.962
cohort_A10.426 1.32412.590
cohort_B5.4490.2126.600
cohort_C6.2110.3007.452
make_txi4.8690.4645.764
reorder_assays5.4570.6326.466