Back to Build/check report for BioC 3.14 experimental data
ABCDE[F]GHIJKLMNOPQRSTUVWXYZ

This page was generated on 2021-10-23 15:51:46 -0400 (Sat, 23 Oct 2021).

All results for package FieldEffectCrc

To the developers/maintainers of the FieldEffectCrc package:
Make sure to use the following settings in order to reproduce any error or warning you see on this page.

raw results

Package 121/408HostnameOS / ArchINSTALLBUILDCHECK
FieldEffectCrc 1.3.0  (landing page)
Christopher Dampier
Snapshot Date: 2021-10-23 09:30:01 -0400 (Sat, 23 Oct 2021)
git_url: https://git.bioconductor.org/packages/FieldEffectCrc
git_branch: master
git_last_commit: d77c4b2
git_last_commit_date: 2021-05-19 12:10:39 -0400 (Wed, 19 May 2021)
nebbiolo2Linux (Ubuntu 20.04.2 LTS) / x86_64  OK    OK    OK  UNNEEDED, same version is already published