Index of /checkResults/devel/data-experiment-LATEST/FANTOM3and4CAGE/raw-results/nebbiolo2

[ICO]NameLast modifiedSizeDescription

[DIR]Parent Directory  -  
[TXT]buildsrc-out.txt20-Jan-2022 22:37 912  
[   ]buildsrc-summary.dcf20-Jan-2022 22:37 452  
[TXT]checksrc-out.txt20-Jan-2022 22:37 3.1K 
[   ]checksrc-summary.dcf20-Jan-2022 22:37 477  
[TXT]install-out.txt20-Jan-2022 22:37 935  
[   ]install-summary.dcf20-Jan-2022 22:37 285