![]() | Name | Last modified | Size | Description |
---|---|---|---|---|
![]() | Parent Directory | - | ||
![]() | buildsrc-out.txt | 25-Jan-2023 04:51 | 901 | |
![]() | buildsrc-summary.dcf | 25-Jan-2023 04:51 | 440 | |
![]() | checksrc-out.txt | 25-Jan-2023 04:51 | 3.2K | |
![]() | checksrc-summary.dcf | 25-Jan-2023 04:51 | 440 | |
![]() | install-out.txt | 25-Jan-2023 04:51 | 913 | |
![]() | install-summary.dcf | 25-Jan-2023 04:51 | 274 | |