Index of /checkResults/devel/data-experiment-LATEST/FANTOM3and4CAGE/raw-results

[ICO]NameLast modifiedSizeDescription

[DIR]Parent Directory  -  
[   ]info.dcf20-Jan-2022 22:37 286  
[DIR]nebbiolo2/20-Jan-2022 22:37 -