Back to Build/check report for BioC 3.14 experimental data
ABCDE[F]GHIJKLMNOPQRSTUVWXYZ

This page was generated on 2021-10-23 15:51:47 -0400 (Sat, 23 Oct 2021).

BUILD results for FANTOM3and4CAGE on nebbiolo2

To the developers/maintainers of the FANTOM3and4CAGE package:
Make sure to use the following settings in order to reproduce any error or warning you see on this page.

raw results

Package 118/408HostnameOS / ArchINSTALLBUILDCHECK
FANTOM3and4CAGE 1.29.0  (landing page)
Vanja Haberle
Snapshot Date: 2021-10-23 09:30:01 -0400 (Sat, 23 Oct 2021)
git_url: https://git.bioconductor.org/packages/FANTOM3and4CAGE
git_branch: master
git_last_commit: 49ea0fa
git_last_commit_date: 2021-05-19 11:39:17 -0400 (Wed, 19 May 2021)
nebbiolo2Linux (Ubuntu 20.04.2 LTS) / x86_64  OK    OK    OK  UNNEEDED, same version is already published

Summary

Package: FANTOM3and4CAGE
Version: 1.29.0
Command: /home/biocbuild/bbs-3.14-bioc/R/bin/R CMD build --keep-empty-dirs --no-resave-data FANTOM3and4CAGE
StartedAt: 2021-10-23 11:18:57 -0400 (Sat, 23 Oct 2021)
EndedAt: 2021-10-23 11:19:11 -0400 (Sat, 23 Oct 2021)
EllapsedTime: 13.8 seconds
RetCode: 0
Status:   OK  
PackageFile: FANTOM3and4CAGE_1.29.0.tar.gz
PackageFileSize: 34.62 MiB

Command output

##############################################################################
##############################################################################
###
### Running command:
###
###   /home/biocbuild/bbs-3.14-bioc/R/bin/R CMD build --keep-empty-dirs --no-resave-data FANTOM3and4CAGE
###
##############################################################################
##############################################################################


* checking for file ‘FANTOM3and4CAGE/DESCRIPTION’ ... OK
* preparing ‘FANTOM3and4CAGE’:
* checking DESCRIPTION meta-information ... OK
* installing the package to build vignettes
* creating vignettes ... OK
* checking for LF line-endings in source and make files and shell scripts
* checking for empty or unneeded directories
* looking to see if a ‘data/datalist’ file should be added
* building ‘FANTOM3and4CAGE_1.29.0.tar.gz’