Back to Build/check report for BioC 3.14 experimental data
ABCD[E]FGHIJKLMNOPQRSTUVWXYZ

This page was generated on 2021-10-23 15:51:47 -0400 (Sat, 23 Oct 2021).

INSTALL results for ELMER.data on nebbiolo2

To the developers/maintainers of the ELMER.data package:
Make sure to use the following settings in order to reproduce any error or warning you see on this page.

raw results

Package 111/408HostnameOS / ArchINSTALLBUILDCHECK
ELMER.data 2.17.1  (landing page)
Tiago Chedraoui Silva
Snapshot Date: 2021-10-23 09:30:01 -0400 (Sat, 23 Oct 2021)
git_url: https://git.bioconductor.org/packages/ELMER.data
git_branch: master
git_last_commit: 5f03ae1
git_last_commit_date: 2021-06-29 11:04:30 -0400 (Tue, 29 Jun 2021)
nebbiolo2Linux (Ubuntu 20.04.2 LTS) / x86_64  OK    OK    OK  UNNEEDED, same version is already published

Summary

Package: ELMER.data
Version: 2.17.1
Command: /home/biocbuild/bbs-3.14-bioc/R/bin/R CMD INSTALL ELMER.data
StartedAt: 2021-10-23 11:01:21 -0400 (Sat, 23 Oct 2021)
EndedAt: 2021-10-23 11:01:30 -0400 (Sat, 23 Oct 2021)
EllapsedTime: 9.4 seconds
RetCode: 0
Status:   OK  

Command output

##############################################################################
##############################################################################
###
### Running command:
###
###   /home/biocbuild/bbs-3.14-bioc/R/bin/R CMD INSTALL ELMER.data
###
##############################################################################
##############################################################################


* installing to library ‘/home/biocbuild/bbs-3.14-bioc/R/library’
* installing *source* package ‘ELMER.data’ ...
** using staged installation
** R
** data
** byte-compile and prepare package for lazy loading
** help
*** installing help indices
** building package indices
** installing vignettes
** testing if installed package can be loaded from temporary location
** testing if installed package can be loaded from final location
** testing if installed package keeps a record of temporary installation path
* DONE (ELMER.data)