Back to Build/check report for BioC 3.14 experimental data
ABCD[E]FGHIJKLMNOPQRSTUVWXYZ

This page was generated on 2021-10-16 15:51:46 -0400 (Sat, 16 Oct 2021).

BUILD results for ELMER.data on nebbiolo2

To the developers/maintainers of the ELMER.data package:
Make sure to use the following settings in order to reproduce any error or warning you see on this page.

raw results

Package 110/404HostnameOS / ArchINSTALLBUILDCHECK
ELMER.data 2.17.1  (landing page)
Tiago Chedraoui Silva
Snapshot Date: 2021-10-16 09:30:02 -0400 (Sat, 16 Oct 2021)
git_url: https://git.bioconductor.org/packages/ELMER.data
git_branch: master
git_last_commit: 5f03ae1
git_last_commit_date: 2021-06-29 11:04:30 -0400 (Tue, 29 Jun 2021)
nebbiolo2Linux (Ubuntu 20.04.2 LTS) / x86_64  OK    OK    OK  UNNEEDED, same version is already published

Summary

Package: ELMER.data
Version: 2.17.1
Command: /home/biocbuild/bbs-3.14-bioc/R/bin/R CMD build --keep-empty-dirs --no-resave-data ELMER.data
StartedAt: 2021-10-16 11:16:51 -0400 (Sat, 16 Oct 2021)
EndedAt: 2021-10-16 11:18:25 -0400 (Sat, 16 Oct 2021)
EllapsedTime: 93.8 seconds
RetCode: 0
Status:   OK  
PackageFile: ELMER.data_2.17.1.tar.gz
PackageFileSize: 293.4 MiB

Command output

##############################################################################
##############################################################################
###
### Running command:
###
###   /home/biocbuild/bbs-3.14-bioc/R/bin/R CMD build --keep-empty-dirs --no-resave-data ELMER.data
###
##############################################################################
##############################################################################


* checking for file ‘ELMER.data/DESCRIPTION’ ... OK
* preparing ‘ELMER.data’:
* checking DESCRIPTION meta-information ... OK
* installing the package to build vignettes
* creating vignettes ... OK
* checking for LF line-endings in source and make files and shell scripts
* checking for empty or unneeded directories
* looking to see if a ‘data/datalist’ file should be added
* building ‘ELMER.data_2.17.1.tar.gz’