Back to Build/check report for BioC 3.14 experimental data
ABCD[E]FGHIJKLMNOPQRSTUVWXYZ

This page was generated on 2021-10-19 15:52:17 -0400 (Tue, 19 Oct 2021).

All results for package ELMER.data

To the developers/maintainers of the ELMER.data package:
Make sure to use the following settings in order to reproduce any error or warning you see on this page.

raw results

Package 110/404HostnameOS / ArchINSTALLBUILDCHECK
ELMER.data 2.17.1  (landing page)
Tiago Chedraoui Silva
Snapshot Date: 2021-10-19 09:30:02 -0400 (Tue, 19 Oct 2021)
git_url: https://git.bioconductor.org/packages/ELMER.data
git_branch: master
git_last_commit: 5f03ae1
git_last_commit_date: 2021-06-29 11:04:30 -0400 (Tue, 29 Jun 2021)
nebbiolo2Linux (Ubuntu 20.04.2 LTS) / x86_64  OK    OK    OK  UNNEEDED, same version is already published