Index of /checkResults/devel/data-experiment-LATEST/EGSEAdata/raw-results/nebbiolo2

[ICO]NameLast modifiedSizeDescription

[DIR]Parent Directory  -  
[TXT]buildsrc-out.txt20-Jan-2022 22:37 816  
[   ]buildsrc-summary.dcf20-Jan-2022 22:37 433  
[TXT]checksrc-out.txt20-Jan-2022 22:37 3.3K 
[   ]checksrc-summary.dcf20-Jan-2022 22:37 453  
[TXT]install-out.txt20-Jan-2022 22:37 951  
[   ]install-summary.dcf20-Jan-2022 22:37 273