Back to Build/check report for BioC 3.14 experimental data
ABCD[E]FGHIJKLMNOPQRSTUVWXYZ

This page was generated on 2021-10-19 15:52:17 -0400 (Tue, 19 Oct 2021).

BUILD results for EGSEAdata on nebbiolo2

To the developers/maintainers of the EGSEAdata package:
Make sure to use the following settings in order to reproduce any error or warning you see on this page.

raw results

Package 109/404HostnameOS / ArchINSTALLBUILDCHECK
EGSEAdata 1.21.0  (landing page)
Monther Alhamdoosh
Snapshot Date: 2021-10-19 09:30:02 -0400 (Tue, 19 Oct 2021)
git_url: https://git.bioconductor.org/packages/EGSEAdata
git_branch: master
git_last_commit: 681c1f9
git_last_commit_date: 2021-05-19 11:57:17 -0400 (Wed, 19 May 2021)
nebbiolo2Linux (Ubuntu 20.04.2 LTS) / x86_64  OK    OK    OK  UNNEEDED, same version is already published

Summary

Package: EGSEAdata
Version: 1.21.0
Command: /home/biocbuild/bbs-3.14-bioc/R/bin/R CMD build --keep-empty-dirs --no-resave-data EGSEAdata
StartedAt: 2021-10-19 11:17:17 -0400 (Tue, 19 Oct 2021)
EndedAt: 2021-10-19 11:17:22 -0400 (Tue, 19 Oct 2021)
EllapsedTime: 4.5 seconds
RetCode: 0
Status:   OK  
PackageFile: EGSEAdata_1.21.0.tar.gz
PackageFileSize: 66.58 MiB

Command output

##############################################################################
##############################################################################
###
### Running command:
###
###   /home/biocbuild/bbs-3.14-bioc/R/bin/R CMD build --keep-empty-dirs --no-resave-data EGSEAdata
###
##############################################################################
##############################################################################


* checking for file ‘EGSEAdata/DESCRIPTION’ ... OK
* preparing ‘EGSEAdata’:
* checking DESCRIPTION meta-information ... OK
* checking for LF line-endings in source and make files and shell scripts
* checking for empty or unneeded directories
* looking to see if a ‘data/datalist’ file should be added
* building ‘EGSEAdata_1.21.0.tar.gz’