Back to Build/check report for BioC 3.14 experimental data
ABC[D]EFGHIJKLMNOPQRSTUVWXYZ

This page was generated on 2021-10-16 15:51:46 -0400 (Sat, 16 Oct 2021).

INSTALL results for DvDdata on nebbiolo2

To the developers/maintainers of the DvDdata package:
Make sure to use the following settings in order to reproduce any error or warning you see on this page.

raw results

Package 105/404HostnameOS / ArchINSTALLBUILDCHECK
DvDdata 1.29.0  (landing page)
J. Saez-Rodriguez
Snapshot Date: 2021-10-16 09:30:02 -0400 (Sat, 16 Oct 2021)
git_url: https://git.bioconductor.org/packages/DvDdata
git_branch: master
git_last_commit: 2e992d0
git_last_commit_date: 2021-05-19 11:39:04 -0400 (Wed, 19 May 2021)
nebbiolo2Linux (Ubuntu 20.04.2 LTS) / x86_64  OK    OK    WARNINGS  UNNEEDED, same version is already published

Summary

Package: DvDdata
Version: 1.29.0
Command: /home/biocbuild/bbs-3.14-bioc/R/bin/R CMD INSTALL DvDdata
StartedAt: 2021-10-16 11:00:10 -0400 (Sat, 16 Oct 2021)
EndedAt: 2021-10-16 11:00:26 -0400 (Sat, 16 Oct 2021)
EllapsedTime: 16.7 seconds
RetCode: 0
Status:   OK  

Command output

##############################################################################
##############################################################################
###
### Running command:
###
###   /home/biocbuild/bbs-3.14-bioc/R/bin/R CMD INSTALL DvDdata
###
##############################################################################
##############################################################################


* installing to library ‘/home/biocbuild/bbs-3.14-bioc/R/library’
* installing *source* package ‘DvDdata’ ...
** using staged installation
** data
*** moving datasets to lazyload DB
** help
*** installing help indices
** building package indices
** installing vignettes
** testing if installed package can be loaded from temporary location
** testing if installed package can be loaded from final location
** testing if installed package keeps a record of temporary installation path
* DONE (DvDdata)