Back to Build/check report for BioC 3.14 experimental data
ABC[D]EFGHIJKLMNOPQRSTUVWXYZ

This page was generated on 2021-10-16 15:51:46 -0400 (Sat, 16 Oct 2021).

BUILD results for DREAM4 on nebbiolo2

To the developers/maintainers of the DREAM4 package:
Make sure to use the following settings in order to reproduce any error or warning you see on this page.

raw results

Package 100/404HostnameOS / ArchINSTALLBUILDCHECK
DREAM4 1.29.0  (landing page)
Paul Shannon
Snapshot Date: 2021-10-16 09:30:02 -0400 (Sat, 16 Oct 2021)
git_url: https://git.bioconductor.org/packages/DREAM4
git_branch: master
git_last_commit: fd5745f
git_last_commit_date: 2021-05-19 11:39:37 -0400 (Wed, 19 May 2021)
nebbiolo2Linux (Ubuntu 20.04.2 LTS) / x86_64  OK    OK    WARNINGS  UNNEEDED, same version is already published

Summary

Package: DREAM4
Version: 1.29.0
Command: /home/biocbuild/bbs-3.14-bioc/R/bin/R CMD build --keep-empty-dirs --no-resave-data DREAM4
StartedAt: 2021-10-16 11:16:23 -0400 (Sat, 16 Oct 2021)
EndedAt: 2021-10-16 11:16:45 -0400 (Sat, 16 Oct 2021)
EllapsedTime: 22.3 seconds
RetCode: 0
Status:   OK  
PackageFile: DREAM4_1.29.0.tar.gz
PackageFileSize: 3.329 MiB

Command output

##############################################################################
##############################################################################
###
### Running command:
###
###   /home/biocbuild/bbs-3.14-bioc/R/bin/R CMD build --keep-empty-dirs --no-resave-data DREAM4
###
##############################################################################
##############################################################################


* checking for file ‘DREAM4/DESCRIPTION’ ... OK
* preparing ‘DREAM4’:
* checking DESCRIPTION meta-information ... OK
* installing the package to build vignettes
* creating vignettes ... OK
* checking for LF line-endings in source and make files and shell scripts
* checking for empty or unneeded directories
* looking to see if a ‘data/datalist’ file should be added
* building ‘DREAM4_1.29.0.tar.gz’