Back to Build/check report for BioC 3.14 experimental data
ABC[D]EFGHIJKLMNOPQRSTUVWXYZ

This page was generated on 2021-10-19 15:52:17 -0400 (Tue, 19 Oct 2021).

All results for package DLBCL

To the developers/maintainers of the DLBCL package:
Make sure to use the following settings in order to reproduce any error or warning you see on this page.

raw results

Package 95/404HostnameOS / ArchINSTALLBUILDCHECK
DLBCL 1.33.0  (landing page)
Marcus Dittrich
Snapshot Date: 2021-10-19 09:30:02 -0400 (Tue, 19 Oct 2021)
git_url: https://git.bioconductor.org/packages/DLBCL
git_branch: master
git_last_commit: 99d8761
git_last_commit_date: 2021-05-19 11:30:44 -0400 (Wed, 19 May 2021)
nebbiolo2Linux (Ubuntu 20.04.2 LTS) / x86_64  OK    OK    WARNINGS  UNNEEDED, same version is already published