Back to Build/check report for BioC 3.14 experimental data
ABC[D]EFGHIJKLMNOPQRSTUVWXYZ

This page was generated on 2021-10-21 15:52:02 -0400 (Thu, 21 Oct 2021).

All results for package DExMAdata

To the developers/maintainers of the DExMAdata package:
Make sure to use the following settings in order to reproduce any error or warning you see on this page.

raw results

Package 92/406HostnameOS / ArchINSTALLBUILDCHECK
DExMAdata 1.1.0  (landing page)
Juan Antonio Villatoro-GarcĂ­a
Snapshot Date: 2021-10-21 09:30:01 -0400 (Thu, 21 Oct 2021)
git_url: https://git.bioconductor.org/packages/DExMAdata
git_branch: master
git_last_commit: 5b388bd
git_last_commit_date: 2021-05-19 12:12:33 -0400 (Wed, 19 May 2021)
nebbiolo2Linux (Ubuntu 20.04.2 LTS) / x86_64  OK    OK    OK  UNNEEDED, same version is already published