Index of /checkResults/devel/data-experiment-LATEST/DAPARdata/raw-results

[ICO]NameLast modifiedSizeDescription

[DIR]Parent Directory  -  
[   ]info.dcf29-Nov-2021 08:35 276  
[DIR]nebbiolo2/29-Nov-2021 08:35 -