Back to Build/check report for BioC 3.14 experimental data
ABC[D]EFGHIJKLMNOPQRSTUVWXYZ

This page was generated on 2021-10-16 15:51:46 -0400 (Sat, 16 Oct 2021).

BUILD results for DAPARdata on nebbiolo2

To the developers/maintainers of the DAPARdata package:
Make sure to use the following settings in order to reproduce any error or warning you see on this page.

raw results

Package 87/404HostnameOS / ArchINSTALLBUILDCHECK
DAPARdata 1.23.3  (landing page)
Samuel Wieczorek
Snapshot Date: 2021-10-16 09:30:02 -0400 (Sat, 16 Oct 2021)
git_url: https://git.bioconductor.org/packages/DAPARdata
git_branch: master
git_last_commit: 3584588
git_last_commit_date: 2021-10-07 02:56:45 -0400 (Thu, 07 Oct 2021)
nebbiolo2Linux (Ubuntu 20.04.2 LTS) / x86_64  OK    OK    WARNINGS  UNNEEDED, same version is already published

Summary

Package: DAPARdata
Version: 1.23.3
Command: /home/biocbuild/bbs-3.14-bioc/R/bin/R CMD build --keep-empty-dirs --no-resave-data DAPARdata
StartedAt: 2021-10-16 11:14:42 -0400 (Sat, 16 Oct 2021)
EndedAt: 2021-10-16 11:14:47 -0400 (Sat, 16 Oct 2021)
EllapsedTime: 4.8 seconds
RetCode: 0
Status:   OK  
PackageFile: DAPARdata_1.23.3.tar.gz
PackageFileSize: 32.97 MiB

Command output

##############################################################################
##############################################################################
###
### Running command:
###
###   /home/biocbuild/bbs-3.14-bioc/R/bin/R CMD build --keep-empty-dirs --no-resave-data DAPARdata
###
##############################################################################
##############################################################################


* checking for file ‘DAPARdata/DESCRIPTION’ ... OK
* preparing ‘DAPARdata’:
* checking DESCRIPTION meta-information ... OK
* checking for LF line-endings in source and make files and shell scripts
* checking for empty or unneeded directories
* looking to see if a ‘data/datalist’ file should be added
* building ‘DAPARdata_1.23.3.tar.gz’