Back to Build/check report for BioC 3.14 experimental data
AB[C]DEFGHIJKLMNOPQRSTUVWXYZ

This page was generated on 2021-10-16 15:51:46 -0400 (Sat, 16 Oct 2021).

INSTALL results for CluMSIDdata on nebbiolo2

To the developers/maintainers of the CluMSIDdata package:
Make sure to use the following settings in order to reproduce any error or warning you see on this page.

raw results

Package 64/404HostnameOS / ArchINSTALLBUILDCHECK
CluMSIDdata 1.9.0  (landing page)
Tobias Depke
Snapshot Date: 2021-10-16 09:30:02 -0400 (Sat, 16 Oct 2021)
git_url: https://git.bioconductor.org/packages/CluMSIDdata
git_branch: master
git_last_commit: acd6e6c
git_last_commit_date: 2021-05-19 12:07:10 -0400 (Wed, 19 May 2021)
nebbiolo2Linux (Ubuntu 20.04.2 LTS) / x86_64  OK    OK    OK  UNNEEDED, same version is already published

Summary

Package: CluMSIDdata
Version: 1.9.0
Command: /home/biocbuild/bbs-3.14-bioc/R/bin/R CMD INSTALL CluMSIDdata
StartedAt: 2021-10-16 11:00:31 -0400 (Sat, 16 Oct 2021)
EndedAt: 2021-10-16 11:00:32 -0400 (Sat, 16 Oct 2021)
EllapsedTime: 1.0 seconds
RetCode: 0
Status:   OK  

Command output

##############################################################################
##############################################################################
###
### Running command:
###
###   /home/biocbuild/bbs-3.14-bioc/R/bin/R CMD INSTALL CluMSIDdata
###
##############################################################################
##############################################################################


* installing to library ‘/home/biocbuild/bbs-3.14-bioc/R/library’
* installing *source* package ‘CluMSIDdata’ ...
** using staged installation
** inst
** help
No man pages found in package  ‘CluMSIDdata’ 
*** installing help indices
** building package indices
** testing if installed package can be loaded from temporary location
** testing if installed package can be loaded from final location
** testing if installed package keeps a record of temporary installation path
* DONE (CluMSIDdata)