Index of /checkResults/devel/data-experiment-LATEST/ChimpHumanBrainData/raw-results

[ICO]NameLast modifiedSizeDescription

[DIR]Parent Directory  -  
[   ]info.dcf07-Jun-2023 03:51 286  
[DIR]nebbiolo2/07-Jun-2023 03:51 -