Back to Build/check report for BioC 3.18 experimental data
AB[C]DEFGHIJKLMNOPQRSTUVWXYZ

This page was generated on 2023-09-26 14:51:51 -0400 (Tue, 26 Sep 2023).

HostnameOSArch (*)R versionInstalled pkgs
nebbiolo2Linux (Ubuntu 22.04.2 LTS)x86_644.3.1 (2023-06-16) -- "Beagle Scouts" 4659
Click on any hostname to see more info about the system (e.g. compilers)      (*) as reported by 'uname -p', except on Windows and Mac OS X

Package 54/424HostnameOS / ArchINSTALLBUILDCHECK
ChimpHumanBrainData 1.39.0  (landing page)
Sean Davis
Snapshot Date: 2023-09-26 07:30:02 -0400 (Tue, 26 Sep 2023)
git_url: https://git.bioconductor.org/packages/ChimpHumanBrainData
git_branch: devel
git_last_commit: 346b3a6
git_last_commit_date: 2023-04-25 10:34:53 -0400 (Tue, 25 Apr 2023)
nebbiolo2Linux (Ubuntu 22.04.2 LTS) / x86_64  OK    OK    ERROR  

INSTALL results for ChimpHumanBrainData on nebbiolo2


To the developers/maintainers of the ChimpHumanBrainData package:
- Use the following Renviron settings to reproduce errors and warnings.
- If 'R CMD check' started to fail recently on the Linux builder(s) over a missing dependency, add the missing dependency to 'Suggests:' in your DESCRIPTION file. See Renviron.bioc for more information.

raw results


Summary

Package: ChimpHumanBrainData
Version: 1.39.0
Command: /home/biocbuild/bbs-3.18-bioc/R/bin/R CMD INSTALL ChimpHumanBrainData
StartedAt: 2023-09-26 10:01:48 -0400 (Tue, 26 Sep 2023)
EndedAt: 2023-09-26 10:01:52 -0400 (Tue, 26 Sep 2023)
EllapsedTime: 4.0 seconds
RetCode: 0
Status:   OK  

Command output

##############################################################################
##############################################################################
###
### Running command:
###
###   /home/biocbuild/bbs-3.18-bioc/R/bin/R CMD INSTALL ChimpHumanBrainData
###
##############################################################################
##############################################################################


* installing to library ‘/home/biocbuild/bbs-3.18-bioc/R/site-library’
* installing *source* package ‘ChimpHumanBrainData’ ...
** using staged installation
** inst
** help
*** installing help indices
** building package indices
** installing vignettes
** testing if installed package can be loaded from temporary location
** testing if installed package can be loaded from final location
** testing if installed package keeps a record of temporary installation path
* DONE (ChimpHumanBrainData)