Back to Build/check report for BioC 3.14 experimental data
AB[C]DEFGHIJKLMNOPQRSTUVWXYZ

This page was generated on 2021-10-23 15:51:46 -0400 (Sat, 23 Oct 2021).

BUILD results for ChIPexoQualExample on nebbiolo2

To the developers/maintainers of the ChIPexoQualExample package:
Make sure to use the following settings in order to reproduce any error or warning you see on this page.

raw results

Package 58/408HostnameOS / ArchINSTALLBUILDCHECK
ChIPexoQualExample 1.17.1  (landing page)
Rene Welch
Snapshot Date: 2021-10-23 09:30:01 -0400 (Sat, 23 Oct 2021)
git_url: https://git.bioconductor.org/packages/ChIPexoQualExample
git_branch: master
git_last_commit: f8b3e91
git_last_commit_date: 2021-07-26 22:24:19 -0400 (Mon, 26 Jul 2021)
nebbiolo2Linux (Ubuntu 20.04.2 LTS) / x86_64  OK    OK    OK  UNNEEDED, same version is already published

Summary

Package: ChIPexoQualExample
Version: 1.17.1
Command: /home/biocbuild/bbs-3.14-bioc/R/bin/R CMD build --keep-empty-dirs --no-resave-data ChIPexoQualExample
StartedAt: 2021-10-23 11:12:16 -0400 (Sat, 23 Oct 2021)
EndedAt: 2021-10-23 11:12:28 -0400 (Sat, 23 Oct 2021)
EllapsedTime: 12.1 seconds
RetCode: 0
Status:   OK  
PackageFile: ChIPexoQualExample_1.17.1.tar.gz
PackageFileSize: 152.3 MiB

Command output

##############################################################################
##############################################################################
###
### Running command:
###
###   /home/biocbuild/bbs-3.14-bioc/R/bin/R CMD build --keep-empty-dirs --no-resave-data ChIPexoQualExample
###
##############################################################################
##############################################################################


* checking for file ‘ChIPexoQualExample/DESCRIPTION’ ... OK
* preparing ‘ChIPexoQualExample’:
* checking DESCRIPTION meta-information ... OK
* installing the package to build vignettes
* creating vignettes ... OK
* checking for LF line-endings in source and make files and shell scripts
* checking for empty or unneeded directories
* building ‘ChIPexoQualExample_1.17.1.tar.gz’