Back to Build/check report for BioC 3.14 experimental data
AB[C]DEFGHIJKLMNOPQRSTUVWXYZ

This page was generated on 2021-10-23 15:51:46 -0400 (Sat, 23 Oct 2021).

BUILD results for ChIPXpressData on nebbiolo2

To the developers/maintainers of the ChIPXpressData package:
Make sure to use the following settings in order to reproduce any error or warning you see on this page.

raw results

Package 60/408HostnameOS / ArchINSTALLBUILDCHECK
ChIPXpressData 1.31.0  (landing page)
George Wu
Snapshot Date: 2021-10-23 09:30:01 -0400 (Sat, 23 Oct 2021)
git_url: https://git.bioconductor.org/packages/ChIPXpressData
git_branch: master
git_last_commit: 7c08fbf
git_last_commit_date: 2021-05-19 11:35:36 -0400 (Wed, 19 May 2021)
nebbiolo2Linux (Ubuntu 20.04.2 LTS) / x86_64  OK    OK    WARNINGS  UNNEEDED, same version is already published

Summary

Package: ChIPXpressData
Version: 1.31.0
Command: /home/biocbuild/bbs-3.14-bioc/R/bin/R CMD build --keep-empty-dirs --no-resave-data ChIPXpressData
StartedAt: 2021-10-23 11:12:17 -0400 (Sat, 23 Oct 2021)
EndedAt: 2021-10-23 11:16:51 -0400 (Sat, 23 Oct 2021)
EllapsedTime: 273.8 seconds
RetCode: 0
Status:   OK  
PackageFile: ChIPXpressData_1.31.0.tar.gz
PackageFileSize: 3.171 GiB

Command output

##############################################################################
##############################################################################
###
### Running command:
###
###   /home/biocbuild/bbs-3.14-bioc/R/bin/R CMD build --keep-empty-dirs --no-resave-data ChIPXpressData
###
##############################################################################
##############################################################################


* checking for file ‘ChIPXpressData/DESCRIPTION’ ... OK
* preparing ‘ChIPXpressData’:
* checking DESCRIPTION meta-information ... OK
* checking for LF line-endings in source and make files and shell scripts
* checking for empty or unneeded directories
* looking to see if a ‘data/datalist’ file should be added
* building ‘ChIPXpressData_1.31.0.tar.gz’